BEGIN:VCALENDAR
VERSION:2.0
PRODID:-//Tai chi Schule Evita Twistringen - ECPv6.15.12.2//NONSGML v1.0//EN
CALSCALE:GREGORIAN
METHOD:PUBLISH
X-WR-CALNAME:Tai chi Schule Evita Twistringen
X-ORIGINAL-URL:https://twistringen-taichi-begegnungen.de
X-WR-CALDESC:Veranstaltungen für Tai chi Schule Evita Twistringen
REFRESH-INTERVAL;VALUE=DURATION:PT1H
X-Robots-Tag:noindex
X-PUBLISHED-TTL:PT1H
BEGIN:VTIMEZONE
TZID:Europe/Berlin
BEGIN:DAYLIGHT
TZOFFSETFROM:+0100
TZOFFSETTO:+0200
TZNAME:CEST
DTSTART:20240331T010000
END:DAYLIGHT
BEGIN:STANDARD
TZOFFSETFROM:+0200
TZOFFSETTO:+0100
TZNAME:CET
DTSTART:20241027T010000
END:STANDARD
BEGIN:DAYLIGHT
TZOFFSETFROM:+0100
TZOFFSETTO:+0200
TZNAME:CEST
DTSTART:20250330T010000
END:DAYLIGHT
BEGIN:STANDARD
TZOFFSETFROM:+0200
TZOFFSETTO:+0100
TZNAME:CET
DTSTART:20251026T010000
END:STANDARD
BEGIN:DAYLIGHT
TZOFFSETFROM:+0100
TZOFFSETTO:+0200
TZNAME:CEST
DTSTART:20260329T010000
END:DAYLIGHT
BEGIN:STANDARD
TZOFFSETFROM:+0200
TZOFFSETTO:+0100
TZNAME:CET
DTSTART:20261025T010000
END:STANDARD
END:VTIMEZONE
BEGIN:VEVENT
DTSTART;TZID=Europe/Berlin:20250127T184500
DTEND;TZID=Europe/Berlin:20250127T201500
DTSTAMP:20260423T000538
CREATED:20250120T134614Z
LAST-MODIFIED:20250318T133423Z
UID:10000014-1738003500-1738008900@twistringen-taichi-begegnungen.de
SUMMARY:Qi-Gong
DESCRIPTION:
URL:https://twistringen-taichi-begegnungen.de/veranstaltung/qi-gong/2025-01-27/
LOCATION:Dojo EViTa\, Wacholderweg 10\, Twistringen\, Lower Saxony\, 27239\, Germany
CATEGORIES:Kurse
ATTACH;FMTTYPE=image/jpeg:https://twistringen-taichi-begegnungen.de/wp-content/uploads/2025/01/IMG_4532-scaled.jpg
END:VEVENT
BEGIN:VEVENT
DTSTART;TZID=Europe/Berlin:20250123T193000
DTEND;TZID=Europe/Berlin:20250123T210000
DTSTAMP:20260423T000538
CREATED:20250120T135141Z
LAST-MODIFIED:20250120T140427Z
UID:10000149-1737660600-1737666000@twistringen-taichi-begegnungen.de
SUMMARY:Tai-Chi Spielen Donnerstags-Gruppe
DESCRIPTION:
URL:https://twistringen-taichi-begegnungen.de/veranstaltung/tai-chi-spielen-donnerstag/2025-01-23/
LOCATION:Dojo EViTa\, Wacholderweg 10\, Twistringen\, Lower Saxony\, 27239\, Germany
CATEGORIES:Kurse
ATTACH;FMTTYPE=image/jpeg:https://twistringen-taichi-begegnungen.de/wp-content/uploads/2024/11/IMG_3790.jpeg
END:VEVENT
BEGIN:VEVENT
DTSTART;TZID=Europe/Berlin:20250122T184500
DTEND;TZID=Europe/Berlin:20250122T201500
DTSTAMP:20260423T000538
CREATED:20250120T134854Z
LAST-MODIFIED:20250120T140706Z
UID:10000080-1737571500-1737576900@twistringen-taichi-begegnungen.de
SUMMARY:Tai-Chi Spielen Mittwochs-Gruppe
DESCRIPTION:
URL:https://twistringen-taichi-begegnungen.de/veranstaltung/tai-chi-spielen-mittwochs/2025-01-22/
LOCATION:Dojo EViTa\, Wacholderweg 10\, Twistringen\, Lower Saxony\, 27239\, Germany
CATEGORIES:Kurse
ATTACH;FMTTYPE=image/jpeg:https://twistringen-taichi-begegnungen.de/wp-content/uploads/2024/10/IMG_5408-scaled.jpeg
END:VEVENT
BEGIN:VEVENT
DTSTART;TZID=Europe/Berlin:20250120T184500
DTEND;TZID=Europe/Berlin:20250120T201500
DTSTAMP:20260423T000538
CREATED:20250120T134614Z
LAST-MODIFIED:20250318T133423Z
UID:10000013-1737398700-1737404100@twistringen-taichi-begegnungen.de
SUMMARY:Qi-Gong
DESCRIPTION:
URL:https://twistringen-taichi-begegnungen.de/veranstaltung/qi-gong/2025-01-20/
LOCATION:Dojo EViTa\, Wacholderweg 10\, Twistringen\, Lower Saxony\, 27239\, Germany
CATEGORIES:Kurse
ATTACH;FMTTYPE=image/jpeg:https://twistringen-taichi-begegnungen.de/wp-content/uploads/2025/01/IMG_4532-scaled.jpg
END:VEVENT
END:VCALENDAR