BEGIN:VCALENDAR
VERSION:2.0
PRODID:-//Tai chi Schule Evita Twistringen - ECPv6.15.12.2//NONSGML v1.0//EN
CALSCALE:GREGORIAN
METHOD:PUBLISH
X-WR-CALNAME:Tai chi Schule Evita Twistringen
X-ORIGINAL-URL:https://twistringen-taichi-begegnungen.de
X-WR-CALDESC:Veranstaltungen für Tai chi Schule Evita Twistringen
REFRESH-INTERVAL;VALUE=DURATION:PT1H
X-Robots-Tag:noindex
X-PUBLISHED-TTL:PT1H
BEGIN:VTIMEZONE
TZID:Europe/Berlin
BEGIN:DAYLIGHT
TZOFFSETFROM:+0100
TZOFFSETTO:+0200
TZNAME:CEST
DTSTART:20240331T010000
END:DAYLIGHT
BEGIN:STANDARD
TZOFFSETFROM:+0200
TZOFFSETTO:+0100
TZNAME:CET
DTSTART:20241027T010000
END:STANDARD
BEGIN:DAYLIGHT
TZOFFSETFROM:+0100
TZOFFSETTO:+0200
TZNAME:CEST
DTSTART:20250330T010000
END:DAYLIGHT
BEGIN:STANDARD
TZOFFSETFROM:+0200
TZOFFSETTO:+0100
TZNAME:CET
DTSTART:20251026T010000
END:STANDARD
BEGIN:DAYLIGHT
TZOFFSETFROM:+0100
TZOFFSETTO:+0200
TZNAME:CEST
DTSTART:20260329T010000
END:DAYLIGHT
BEGIN:STANDARD
TZOFFSETFROM:+0200
TZOFFSETTO:+0100
TZNAME:CET
DTSTART:20261025T010000
END:STANDARD
END:VTIMEZONE
BEGIN:VEVENT
DTSTART;TZID=Europe/Berlin:20250827T183000
DTEND;TZID=Europe/Berlin:20250827T193000
DTSTAMP:20260420T033432
CREATED:20250429T122834Z
LAST-MODIFIED:20250430T081629Z
UID:10000197-1756319400-1756323000@twistringen-taichi-begegnungen.de
SUMMARY:Sommermove in den Abend
DESCRIPTION:Ein Sommermove am Abend \nBevor die neuen Kurse im September starten\, ist dies ein Angebot für die Sommerpause.\nAlle sind herzlich willkommen – diejenigen\, die schon am wöchentlichen Angebot teilnehmen und auch Interessierte\, die neugierig auf Neues sind. \nDie Natur zeigt sich im Sommer in ihrer üppigen Schönheit.\nDu bewegst dich mittendrin\, findest Entspannung\, Harmonie und schöne Bewegungselemente\, die zur Energie des Sommers passen.\nEin erster guter Schritt ist dein Kommen. \nDiese Stunden sind einzeln und auch als Gesamtpaket buchbar. Mail/WhatsApp/Signal/SMS/Tel.\nDie Stunde kostet 10 €\, die du auch vor Ort entrichten kannst.\n09.07.2025 bis 27.08.2025
URL:https://twistringen-taichi-begegnungen.de/veranstaltung/sommermove-in-den-abend/2025-08-27/
LOCATION:Dojo EViTa\, Wacholderweg 10\, Twistringen\, Lower Saxony\, 27239\, Germany
CATEGORIES:Kurse,Workshops
ATTACH;FMTTYPE=image/jpeg:https://twistringen-taichi-begegnungen.de/wp-content/uploads/2025/04/IMG_4672-rotated.jpeg
END:VEVENT
END:VCALENDAR